BEGIN:VCALENDAR
VERSION:2.0
PRODID:-//Department Of Education//867a52b2-bd7b-4611-807e-bf0880c6dfe0
BEGIN:VTIMEZONE
TZID:Australia/Sydney
TZURL:http://tzurl.org/zoneinfo-outlook/Australia/Sydney
X-LIC-LOCATION:Australia/Sydney
BEGIN:STANDARD
TZOFFSETFROM:+1100
TZOFFSETTO:+1000
TZNAME:AEST
DTSTART:19700405T030000
RRULE:FREQ=YEARLY;BYMONTH=4;BYDAY=1SU
END:STANDARD
BEGIN:DAYLIGHT
TZOFFSETFROM:+1000
TZOFFSETTO:+1100
TZNAME:AEDT
DTSTART:19701004T020000
RRULE:FREQ=YEARLY;BYMONTH=10;BYDAY=1SU
END:DAYLIGHT
END:VTIMEZONE
CALSCALE:GREGORIAN
X-WR-TIMEZONE:Australia/Sydney
BEGIN:VEVENT
DTSTART;TZID=Australia/Sydney:20200302T190001
DTEND;TZID=Australia/Sydney:20200302T210018
DTSTAMP:20200302T000000Z
UID:ba5d199e-fd1f-4b6f-b6f0-465dfc6c2107
LOCATION:PBPS Staff Room
SUMMARY;LANGUAGE=en-us:P&C Meeting and AGM
SEQUENCE:0
DESCRIPTION:All welcome to attend
END:VEVENT
TRANSP:TRANSPARENT
END:VCALENDAR
